BEGIN:VCALENDAR
VERSION:2.0
PRODID:-//Grundschule Krempe - ECPv4.9.8//NONSGML v1.0//EN
CALSCALE:GREGORIAN
METHOD:PUBLISH
X-WR-CALNAME:Grundschule Krempe
X-ORIGINAL-URL:http://schulzentrum-krempermarsch.de
X-WR-CALDESC:Veranstaltungen im Grundschule Krempe
BEGIN:VTIMEZONE
TZID:Europe/Berlin
BEGIN:DAYLIGHT
TZOFFSETFROM:+0100
TZOFFSETTO:+0200
TZNAME:CEST
DTSTART:20210328T010000
END:DAYLIGHT
BEGIN:STANDARD
TZOFFSETFROM:+0200
TZOFFSETTO:+0100
TZNAME:CET
DTSTART:20211031T010000
END:STANDARD
END:VTIMEZONE
BEGIN:VEVENT
DTSTART;TZID="Europe/Berlin":20210129T080000
DTEND;TZID="Europe/Berlin":20210129T120500
DTSTAMP:20260422T163721
CREATED:20200922T155200Z
LAST-MODIFIED:20200922T155200Z
UID:2345-1611907200-1611921900@schulzentrum-krempermarsch.de
SUMMARY:Zeugnisausgabe
DESCRIPTION:Schulschluss für alle Schülerinnen und Schüler um 12.05 Uhr \n
URL:http://schulzentrum-krempermarsch.de/event/zeugnisausgabe-7/
END:VEVENT
END:VCALENDAR