BEGIN:VCALENDAR
VERSION:2.0
PRODID:-//Grundschule Krempe - ECPv4.9.8//NONSGML v1.0//EN
CALSCALE:GREGORIAN
METHOD:PUBLISH
X-WR-CALNAME:Grundschule Krempe
X-ORIGINAL-URL:http://schulzentrum-krempermarsch.de
X-WR-CALDESC:Veranstaltungen im Grundschule Krempe
BEGIN:VTIMEZONE
TZID:Europe/Berlin
BEGIN:DAYLIGHT
TZOFFSETFROM:+0100
TZOFFSETTO:+0200
TZNAME:CEST
DTSTART:20190331T010000
END:DAYLIGHT
BEGIN:STANDARD
TZOFFSETFROM:+0200
TZOFFSETTO:+0100
TZNAME:CET
DTSTART:20191027T010000
END:STANDARD
END:VTIMEZONE
BEGIN:VEVENT
DTSTART;TZID="Europe/Berlin":20190125T080000
DTEND;TZID="Europe/Berlin":20190125T120000
DTSTAMP:20260424T023234
CREATED:20190118T055627Z
LAST-MODIFIED:20190118T055627Z
UID:1113-1548403200-1548417600@schulzentrum-krempermarsch.de
SUMMARY:Zeugnisausgabe
DESCRIPTION:Schulschluss für alle Klassenstufen um 12.05 Uhr \n
URL:http://schulzentrum-krempermarsch.de/event/zeugnisausgabe-4/
END:VEVENT
END:VCALENDAR