BEGIN:VCALENDAR
VERSION:2.0
PRODID:-//Grundschule Krempe - ECPv4.9.8//NONSGML v1.0//EN
CALSCALE:GREGORIAN
METHOD:PUBLISH
X-WR-CALNAME:Grundschule Krempe
X-ORIGINAL-URL:http://schulzentrum-krempermarsch.de
X-WR-CALDESC:Veranstaltungen im Grundschule Krempe
BEGIN:VTIMEZONE
TZID:Europe/Berlin
BEGIN:DAYLIGHT
TZOFFSETFROM:+0100
TZOFFSETTO:+0200
TZNAME:CEST
DTSTART:20160327T010000
END:DAYLIGHT
BEGIN:STANDARD
TZOFFSETFROM:+0200
TZOFFSETTO:+0100
TZNAME:CET
DTSTART:20161030T010000
END:STANDARD
END:VTIMEZONE
BEGIN:VEVENT
DTSTART;VALUE=DATE:20161206
DTEND;VALUE=DATE:20161207
DTSTAMP:20260424T104716
CREATED:20161006T114631Z
LAST-MODIFIED:20161007T083509Z
UID:419-1480982400-1481068799@schulzentrum-krempermarsch.de
SUMMARY:Weihnachtsmärchen für die "Tierklassen"
DESCRIPTION:Die &#8222;Tierklassen&#8220; fahren in diesem Jahr nach Elmshorn und erleben einen tollen Theatervormittag. \n
URL:http://schulzentrum-krempermarsch.de/event/weihnachtsmaerchen-fuer-die-tierklassen/
ATTACH;FMTTYPE=image/jpeg:http://schulzentrum-krempermarsch.de/wp-content/uploads/2016/10/weihnachten.jpg
END:VEVENT
END:VCALENDAR