BEGIN:VCALENDAR
VERSION:2.0
PRODID:-//Grundschule Krempe - ECPv4.9.8//NONSGML v1.0//EN
CALSCALE:GREGORIAN
METHOD:PUBLISH
X-WR-CALNAME:Grundschule Krempe
X-ORIGINAL-URL:http://schulzentrum-krempermarsch.de
X-WR-CALDESC:Veranstaltungen im Grundschule Krempe
BEGIN:VTIMEZONE
TZID:Europe/Berlin
BEGIN:DAYLIGHT
TZOFFSETFROM:+0100
TZOFFSETTO:+0200
TZNAME:CEST
DTSTART:20160327T010000
END:DAYLIGHT
BEGIN:STANDARD
TZOFFSETFROM:+0200
TZOFFSETTO:+0100
TZNAME:CET
DTSTART:20161030T010000
END:STANDARD
END:VTIMEZONE
BEGIN:VEVENT
DTSTART;VALUE=DATE:20161222
DTEND;VALUE=DATE:20161223
DTSTAMP:20260424T104216
CREATED:20161006T115232Z
LAST-MODIFIED:20161007T083356Z
UID:427-1482364800-1482451199@schulzentrum-krempermarsch.de
SUMMARY:Weihnachtsfeier der Grundschule Krempe mit allen Schülerinnen und Schülern
DESCRIPTION:Am letzten Schultag vor den Weihnachtsferien wollen wir die Schulkinder mit einem bunten Programm erfreuen und in die Ferien entlassen. \n
URL:http://schulzentrum-krempermarsch.de/event/weihnachtsfeier-der-grundschule-krempe-mit-allen-schuelerinnen-und-schuelern/
LOCATION:Schulzentrum Krempermarsch\, Am Burggraben 10\, Krempe\, Schleswig-Holstein\, 25361\, Deutschland
ATTACH;FMTTYPE=image/jpeg:http://schulzentrum-krempermarsch.de/wp-content/uploads/2016/10/weihnachten.jpg
ORGANIZER;CN="Schulzentrum%20Krempermarsch":MAILTO: schulzentrum-krempermarsch.krempe@schule.landsh.de
END:VEVENT
END:VCALENDAR