BEGIN:VCALENDAR
VERSION:2.0
PRODID:-//Grundschule Krempe - ECPv4.9.8//NONSGML v1.0//EN
CALSCALE:GREGORIAN
METHOD:PUBLISH
X-WR-CALNAME:Grundschule Krempe
X-ORIGINAL-URL:http://schulzentrum-krempermarsch.de
X-WR-CALDESC:Veranstaltungen im Grundschule Krempe
BEGIN:VTIMEZONE
TZID:Europe/Berlin
BEGIN:DAYLIGHT
TZOFFSETFROM:+0100
TZOFFSETTO:+0200
TZNAME:CEST
DTSTART:20200329T010000
END:DAYLIGHT
BEGIN:STANDARD
TZOFFSETFROM:+0200
TZOFFSETTO:+0100
TZNAME:CET
DTSTART:20201025T010000
END:STANDARD
END:VTIMEZONE
BEGIN:VEVENT
DTSTART;TZID="Europe/Berlin":20201216T080000
DTEND;TZID="Europe/Berlin":20201216T120000
DTSTAMP:20260422T234710
CREATED:20200922T154016Z
LAST-MODIFIED:20200922T161200Z
UID:2333-1608105600-1608120000@schulzentrum-krempermarsch.de
SUMMARY:Theaterfahrt nach Itzehoe (voraussichtlich!)
DESCRIPTION:Klassen 1 &#8211; 4 \nSchulschluss: nach Stundenplan \n
URL:http://schulzentrum-krempermarsch.de/event/tischtennis-turnier/
END:VEVENT
END:VCALENDAR