BEGIN:VCALENDAR
VERSION:2.0
PRODID:-//Grundschule Krempe - ECPv4.9.8//NONSGML v1.0//EN
CALSCALE:GREGORIAN
METHOD:PUBLISH
X-WR-CALNAME:Grundschule Krempe
X-ORIGINAL-URL:http://schulzentrum-krempermarsch.de
X-WR-CALDESC:Veranstaltungen im Grundschule Krempe
BEGIN:VTIMEZONE
TZID:Europe/Berlin
BEGIN:DAYLIGHT
TZOFFSETFROM:+0100
TZOFFSETTO:+0200
TZNAME:CEST
DTSTART:20200329T010000
END:DAYLIGHT
BEGIN:STANDARD
TZOFFSETFROM:+0200
TZOFFSETTO:+0100
TZNAME:CET
DTSTART:20201025T010000
END:STANDARD
END:VTIMEZONE
BEGIN:VEVENT
DTSTART;TZID="Europe/Berlin":20201203T080000
DTEND;TZID="Europe/Berlin":20201203T131500
DTSTAMP:20260423T012749
CREATED:20200922T154310Z
LAST-MODIFIED:20200922T161240Z
UID:2337-1606982400-1607001300@schulzentrum-krempermarsch.de
SUMMARY:Tischtennis-Turnier
DESCRIPTION:Auswahl der Schülerinnen und Schüler \n
URL:http://schulzentrum-krempermarsch.de/event/tischtennis-turnier-2/
END:VEVENT
END:VCALENDAR