BEGIN:VCALENDAR
VERSION:2.0
PRODID:-//Grundschule Krempe - ECPv4.9.8//NONSGML v1.0//EN
CALSCALE:GREGORIAN
METHOD:PUBLISH
X-WR-CALNAME:Grundschule Krempe
X-ORIGINAL-URL:http://schulzentrum-krempermarsch.de
X-WR-CALDESC:Veranstaltungen im Grundschule Krempe
BEGIN:VTIMEZONE
TZID:Europe/Berlin
BEGIN:DAYLIGHT
TZOFFSETFROM:+0100
TZOFFSETTO:+0200
TZNAME:CEST
DTSTART:20200329T010000
END:DAYLIGHT
BEGIN:STANDARD
TZOFFSETFROM:+0200
TZOFFSETTO:+0100
TZNAME:CET
DTSTART:20201025T010000
END:STANDARD
END:VTIMEZONE
BEGIN:VEVENT
DTSTART;TZID="Europe/Berlin":20200302T080000
DTEND;TZID="Europe/Berlin":20200302T130000
DTSTAMP:20260423T194251
CREATED:20190825T162159Z
LAST-MODIFIED:20190825T162159Z
UID:1501-1583136000-1583154000@schulzentrum-krempermarsch.de
SUMMARY:Theaterfahrt nach Elmshorn der Klassen 3a und 3b
DESCRIPTION:
URL:http://schulzentrum-krempermarsch.de/event/theaterfahrt-nach-elmshorn-der-klassen-3a-und-3b/
END:VEVENT
END:VCALENDAR