BEGIN:VCALENDAR
VERSION:2.0
PRODID:-//Grundschule Krempe - ECPv4.9.8//NONSGML v1.0//EN
CALSCALE:GREGORIAN
METHOD:PUBLISH
X-WR-CALNAME:Grundschule Krempe
X-ORIGINAL-URL:http://schulzentrum-krempermarsch.de
X-WR-CALDESC:Veranstaltungen im Grundschule Krempe
BEGIN:VTIMEZONE
TZID:Europe/Berlin
BEGIN:DAYLIGHT
TZOFFSETFROM:+0100
TZOFFSETTO:+0200
TZNAME:CEST
DTSTART:20190331T010000
END:DAYLIGHT
BEGIN:STANDARD
TZOFFSETFROM:+0200
TZOFFSETTO:+0100
TZNAME:CET
DTSTART:20191027T010000
END:STANDARD
END:VTIMEZONE
BEGIN:VEVENT
DTSTART;TZID="Europe/Berlin":20190606T080000
DTEND;TZID="Europe/Berlin":20190606T130000
DTSTAMP:20260424T023504
CREATED:20190505T161408Z
LAST-MODIFIED:20190505T161408Z
UID:1182-1559808000-1559826000@schulzentrum-krempermarsch.de
SUMMARY:Tammerland-Theater in der Schule
DESCRIPTION:
URL:http://schulzentrum-krempermarsch.de/event/tammerland-theater-in-der-schule/
END:VEVENT
END:VCALENDAR