BEGIN:VCALENDAR
VERSION:2.0
PRODID:-//Grundschule Krempe - ECPv4.9.8//NONSGML v1.0//EN
CALSCALE:GREGORIAN
METHOD:PUBLISH
X-WR-CALNAME:Grundschule Krempe
X-ORIGINAL-URL:http://schulzentrum-krempermarsch.de
X-WR-CALDESC:Veranstaltungen im Grundschule Krempe
BEGIN:VTIMEZONE
TZID:Europe/Berlin
BEGIN:DAYLIGHT
TZOFFSETFROM:+0100
TZOFFSETTO:+0200
TZNAME:CEST
DTSTART:20170326T010000
END:DAYLIGHT
BEGIN:STANDARD
TZOFFSETFROM:+0200
TZOFFSETTO:+0100
TZNAME:CET
DTSTART:20171029T010000
END:STANDARD
END:VTIMEZONE
BEGIN:VEVENT
DTSTART;VALUE=DATE:20170223
DTEND;VALUE=DATE:20170224
DTSTAMP:20260424T101457
CREATED:20170221T140703Z
LAST-MODIFIED:20170221T140711Z
UID:551-1487808000-1487894399@schulzentrum-krempermarsch.de
SUMMARY:Schulleiterarbeitskreis
DESCRIPTION:Am 23. 2 .2017 findet der Schulleiterarbeitskreis am Nachmittag bei uns an der Grundschule Krempe statt. Für unsere Schüler ergeben sich keine Veränderungen im Stundenplan. \n
URL:http://schulzentrum-krempermarsch.de/event/schulleiterarbeitskreis/
END:VEVENT
END:VCALENDAR