BEGIN:VCALENDAR
VERSION:2.0
PRODID:-//Grundschule Krempe - ECPv4.9.8//NONSGML v1.0//EN
CALSCALE:GREGORIAN
METHOD:PUBLISH
X-WR-CALNAME:Grundschule Krempe
X-ORIGINAL-URL:http://schulzentrum-krempermarsch.de
X-WR-CALDESC:Veranstaltungen im Grundschule Krempe
BEGIN:VTIMEZONE
TZID:Europe/Berlin
BEGIN:DAYLIGHT
TZOFFSETFROM:+0100
TZOFFSETTO:+0200
TZNAME:CEST
DTSTART:20200329T010000
END:DAYLIGHT
BEGIN:STANDARD
TZOFFSETFROM:+0200
TZOFFSETTO:+0100
TZNAME:CET
DTSTART:20201025T010000
END:STANDARD
END:VTIMEZONE
BEGIN:VEVENT
DTSTART;TZID="Europe/Berlin":20200518T080000
DTEND;TZID="Europe/Berlin":20200518T170000
DTSTAMP:20260423T194601
CREATED:20190825T162634Z
LAST-MODIFIED:20190825T162634Z
UID:1509-1589788800-1589821200@schulzentrum-krempermarsch.de
SUMMARY:Schulentwicklungstag
DESCRIPTION:Schülerinnen und Schüler haben SCHULFREI\, Betreuungsangebot vom Förderverein \n
URL:http://schulzentrum-krempermarsch.de/event/schulentwicklungstag-4/
END:VEVENT
END:VCALENDAR