BEGIN:VCALENDAR
VERSION:2.0
PRODID:-//Grundschule Krempe - ECPv4.9.8//NONSGML v1.0//EN
CALSCALE:GREGORIAN
METHOD:PUBLISH
X-WR-CALNAME:Grundschule Krempe
X-ORIGINAL-URL:http://schulzentrum-krempermarsch.de
X-WR-CALDESC:Veranstaltungen im Grundschule Krempe
BEGIN:VTIMEZONE
TZID:Europe/Berlin
BEGIN:DAYLIGHT
TZOFFSETFROM:+0100
TZOFFSETTO:+0200
TZNAME:CEST
DTSTART:20170326T010000
END:DAYLIGHT
BEGIN:STANDARD
TZOFFSETFROM:+0200
TZOFFSETTO:+0100
TZNAME:CET
DTSTART:20171029T010000
END:STANDARD
END:VTIMEZONE
BEGIN:VEVENT
DTSTART;TZID="Europe/Berlin":20171002T080000
DTEND;TZID="Europe/Berlin":20171002T170000
DTSTAMP:20260424T072536
CREATED:20170613T175915Z
LAST-MODIFIED:20170613T175915Z
UID:648-1506931200-1506963600@schulzentrum-krempermarsch.de
SUMMARY:Schulentwicklungstag
DESCRIPTION:
URL:http://schulzentrum-krempermarsch.de/event/schulentwicklungstag-3/
END:VEVENT
END:VCALENDAR