BEGIN:VCALENDAR
VERSION:2.0
PRODID:-//Grundschule Krempe - ECPv4.9.8//NONSGML v1.0//EN
CALSCALE:GREGORIAN
METHOD:PUBLISH
X-WR-CALNAME:Grundschule Krempe
X-ORIGINAL-URL:http://schulzentrum-krempermarsch.de
X-WR-CALDESC:Veranstaltungen im Grundschule Krempe
BEGIN:VTIMEZONE
TZID:Europe/Berlin
BEGIN:DAYLIGHT
TZOFFSETFROM:+0100
TZOFFSETTO:+0200
TZNAME:CEST
DTSTART:20260329T010000
END:DAYLIGHT
BEGIN:STANDARD
TZOFFSETFROM:+0200
TZOFFSETTO:+0100
TZNAME:CET
DTSTART:20261025T010000
END:STANDARD
END:VTIMEZONE
BEGIN:VEVENT
DTSTART;TZID="Europe/Berlin":20260629T190000
DTEND;TZID="Europe/Berlin":20260629T210000
DTSTAMP:20260423T011506
CREATED:20250905T081658Z
LAST-MODIFIED:20250905T081658Z
UID:5633-1782759600-1782766800@schulzentrum-krempermarsch.de
SUMMARY:Sascha-Theater
DESCRIPTION:Veranstaltung für die Eltern/Erziehungsberechtigte der SchülerInnen der Klassenstufen 3 und 4 \n
URL:http://schulzentrum-krempermarsch.de/event/sascha-theater/
END:VEVENT
END:VCALENDAR