BEGIN:VCALENDAR
VERSION:2.0
PRODID:-//Grundschule Krempe - ECPv4.9.8//NONSGML v1.0//EN
CALSCALE:GREGORIAN
METHOD:PUBLISH
X-WR-CALNAME:Grundschule Krempe
X-ORIGINAL-URL:http://schulzentrum-krempermarsch.de
X-WR-CALDESC:Veranstaltungen im Grundschule Krempe
BEGIN:VTIMEZONE
TZID:Europe/Berlin
BEGIN:DAYLIGHT
TZOFFSETFROM:+0100
TZOFFSETTO:+0200
TZNAME:CEST
DTSTART:20260329T010000
END:DAYLIGHT
BEGIN:STANDARD
TZOFFSETFROM:+0200
TZOFFSETTO:+0100
TZNAME:CET
DTSTART:20261025T010000
END:STANDARD
END:VTIMEZONE
BEGIN:VEVENT
DTSTART;TZID="Europe/Berlin":20260630T080000
DTEND;TZID="Europe/Berlin":20260630T130000
DTSTAMP:20260423T010451
CREATED:20250905T081755Z
LAST-MODIFIED:20250905T081755Z
UID:5635-1782806400-1782824400@schulzentrum-krempermarsch.de
SUMMARY:Sascha-Theater
DESCRIPTION:Veranstaltung für die SchülerInnen der Klassenstufen 3 und 4 \n
URL:http://schulzentrum-krempermarsch.de/event/sascha-theater-2/
END:VEVENT
END:VCALENDAR