BEGIN:VCALENDAR
VERSION:2.0
PRODID:-//Grundschule Krempe - ECPv4.9.8//NONSGML v1.0//EN
CALSCALE:GREGORIAN
METHOD:PUBLISH
X-WR-CALNAME:Grundschule Krempe
X-ORIGINAL-URL:http://schulzentrum-krempermarsch.de
X-WR-CALDESC:Veranstaltungen im Grundschule Krempe
BEGIN:VTIMEZONE
TZID:Europe/Berlin
BEGIN:DAYLIGHT
TZOFFSETFROM:+0100
TZOFFSETTO:+0200
TZNAME:CEST
DTSTART:20190331T010000
END:DAYLIGHT
BEGIN:STANDARD
TZOFFSETFROM:+0200
TZOFFSETTO:+0100
TZNAME:CET
DTSTART:20191027T010000
END:STANDARD
END:VTIMEZONE
BEGIN:VEVENT
DTSTART;TZID="Europe/Berlin":20191104T080000
DTEND;TZID="Europe/Berlin":20191108T120000
DTSTAMP:20260423T230621
CREATED:20190825T145047Z
LAST-MODIFIED:20190825T145047Z
UID:1479-1572854400-1573214400@schulzentrum-krempermarsch.de
SUMMARY:Projektwoche
DESCRIPTION:Montag bis Freitag: Klassenstufen 1 und 2:Â  8.00 &#8211; 12.15 Uhr\nKlassenstufen 3 und 4: 8.00 &#8211; 12.15 Uhr (optional bis 13.15 Uhr) \n  \n
URL:http://schulzentrum-krempermarsch.de/event/projektwoche/
END:VEVENT
END:VCALENDAR