BEGIN:VCALENDAR
VERSION:2.0
PRODID:-//Grundschule Krempe - ECPv4.9.8//NONSGML v1.0//EN
CALSCALE:GREGORIAN
METHOD:PUBLISH
X-WR-CALNAME:Grundschule Krempe
X-ORIGINAL-URL:http://schulzentrum-krempermarsch.de
X-WR-CALDESC:Veranstaltungen im Grundschule Krempe
BEGIN:VTIMEZONE
TZID:Europe/Berlin
BEGIN:DAYLIGHT
TZOFFSETFROM:+0100
TZOFFSETTO:+0200
TZNAME:CEST
DTSTART:20190331T010000
END:DAYLIGHT
BEGIN:STANDARD
TZOFFSETFROM:+0200
TZOFFSETTO:+0100
TZNAME:CET
DTSTART:20191027T010000
END:STANDARD
END:VTIMEZONE
BEGIN:VEVENT
DTSTART;TZID="Europe/Berlin":20190917T080000
DTEND;TZID="Europe/Berlin":20190920T133000
DTSTAMP:20260423T230943
CREATED:20190608T075240Z
LAST-MODIFIED:20190608T075240Z
UID:1273-1568707200-1568986200@schulzentrum-krempermarsch.de
SUMMARY:"Petze"-Ausstellung im Hause
DESCRIPTION:
URL:http://schulzentrum-krempermarsch.de/event/petze-ausstellung-im-hause/
END:VEVENT
END:VCALENDAR