BEGIN:VCALENDAR
VERSION:2.0
PRODID:-//Grundschule Krempe - ECPv4.9.8//NONSGML v1.0//EN
CALSCALE:GREGORIAN
METHOD:PUBLISH
X-WR-CALNAME:Grundschule Krempe
X-ORIGINAL-URL:http://schulzentrum-krempermarsch.de
X-WR-CALDESC:Veranstaltungen im Grundschule Krempe
BEGIN:VTIMEZONE
TZID:Europe/Berlin
BEGIN:DAYLIGHT
TZOFFSETFROM:+0100
TZOFFSETTO:+0200
TZNAME:CEST
DTSTART:20170326T010000
END:DAYLIGHT
BEGIN:STANDARD
TZOFFSETFROM:+0200
TZOFFSETTO:+0100
TZNAME:CET
DTSTART:20171029T010000
END:STANDARD
END:VTIMEZONE
BEGIN:VEVENT
DTSTART;TZID="Europe/Berlin":20171220T080000
DTEND;TZID="Europe/Berlin":20171220T131500
DTSTAMP:20260424T071527
CREATED:20171213T160756Z
LAST-MODIFIED:20171213T163836Z
UID:814-1513756800-1513775700@schulzentrum-krempermarsch.de
SUMMARY:Letzter Schultag vor den Weihnachtsferien\, interne Weihnachtsfeier der SchÃ¼lerinnen und SchÃ¼ler der GS Krempe
DESCRIPTION:  \nSchulschluss: \nfÃ¼r Klassenstufen 1 und 2: 12.05 Uhr\, \nfÃ¼r Klassenstufen 3 und 4: 13.15 Uhr \n  \n
URL:http://schulzentrum-krempermarsch.de/event/letzter-schultag-vor-den-weihnachtsferien/
END:VEVENT
END:VCALENDAR