BEGIN:VCALENDAR
VERSION:2.0
PRODID:-//Grundschule Krempe - ECPv4.9.8//NONSGML v1.0//EN
CALSCALE:GREGORIAN
METHOD:PUBLISH
X-WR-CALNAME:Grundschule Krempe
X-ORIGINAL-URL:http://schulzentrum-krempermarsch.de
X-WR-CALDESC:Veranstaltungen im Grundschule Krempe
BEGIN:VTIMEZONE
TZID:Europe/Berlin
BEGIN:DAYLIGHT
TZOFFSETFROM:+0100
TZOFFSETTO:+0200
TZNAME:CEST
DTSTART:20180325T010000
END:DAYLIGHT
BEGIN:STANDARD
TZOFFSETFROM:+0200
TZOFFSETTO:+0100
TZNAME:CET
DTSTART:20181028T010000
END:STANDARD
END:VTIMEZONE
BEGIN:VEVENT
DTSTART;TZID="Europe/Berlin":20180706T080000
DTEND;TZID="Europe/Berlin":20180706T170000
DTSTAMP:20260424T070418
CREATED:20171213T163722Z
LAST-MODIFIED:20171213T163945Z
UID:836-1530864000-1530896400@schulzentrum-krempermarsch.de
SUMMARY:Letzter Schultag vor den Sommerferien\, Zeugnisausgabe
DESCRIPTION:Schulschluss: \nfür Klassenstufen 1 und 2: 12.05 Uhr\, \nfür Klassenstufen 3 und 4: 13.15 Uhr \n
URL:http://schulzentrum-krempermarsch.de/event/letzter-schultag-vor-den-sommerferien-zeugnisausgabe/
END:VEVENT
END:VCALENDAR