BEGIN:VCALENDAR
VERSION:2.0
PRODID:-//Grundschule Krempe - ECPv4.9.8//NONSGML v1.0//EN
CALSCALE:GREGORIAN
METHOD:PUBLISH
X-WR-CALNAME:Grundschule Krempe
X-ORIGINAL-URL:http://schulzentrum-krempermarsch.de
X-WR-CALDESC:Veranstaltungen im Grundschule Krempe
BEGIN:VTIMEZONE
TZID:Europe/Berlin
BEGIN:DAYLIGHT
TZOFFSETFROM:+0100
TZOFFSETTO:+0200
TZNAME:CEST
DTSTART:20260329T010000
END:DAYLIGHT
BEGIN:STANDARD
TZOFFSETFROM:+0200
TZOFFSETTO:+0100
TZNAME:CET
DTSTART:20261025T010000
END:STANDARD
END:VTIMEZONE
BEGIN:VEVENT
DTSTART;TZID="Europe/Berlin":20260703T080000
DTEND;TZID="Europe/Berlin":20260703T120500
DTSTAMP:20260423T005320
CREATED:20250905T083015Z
LAST-MODIFIED:20250905T083015Z
UID:5661-1783065600-1783080300@schulzentrum-krempermarsch.de
SUMMARY:letzter Schultag vor den Sommerferien / Zeugnisausgabe
DESCRIPTION:Schulschluss für alle SchülerInnen um 12.05 Uhr \n
URL:http://schulzentrum-krempermarsch.de/event/letzter-schultag-vor-den-sommerferien-zeugnisausgabe-5/
END:VEVENT
END:VCALENDAR