BEGIN:VCALENDAR
VERSION:2.0
PRODID:-//Grundschule Krempe - ECPv4.9.8//NONSGML v1.0//EN
CALSCALE:GREGORIAN
METHOD:PUBLISH
X-WR-CALNAME:Grundschule Krempe
X-ORIGINAL-URL:http://schulzentrum-krempermarsch.de
X-WR-CALDESC:Veranstaltungen im Grundschule Krempe
BEGIN:VTIMEZONE
TZID:Europe/Berlin
BEGIN:DAYLIGHT
TZOFFSETFROM:+0100
TZOFFSETTO:+0200
TZNAME:CEST
DTSTART:20160327T010000
END:DAYLIGHT
BEGIN:STANDARD
TZOFFSETFROM:+0200
TZOFFSETTO:+0100
TZNAME:CET
DTSTART:20161030T010000
END:STANDARD
END:VTIMEZONE
BEGIN:VEVENT
DTSTART;VALUE=DATE:20160716
DTEND;VALUE=DATE:20160717
DTSTAMP:20260424T121947
CREATED:20160421T183831Z
LAST-MODIFIED:20160421T183831Z
UID:185-1468627200-1468713599@schulzentrum-krempermarsch.de
SUMMARY:Kindergrün
DESCRIPTION:Kinderdisko in der Turnhalle \n
URL:http://schulzentrum-krempermarsch.de/event/kindergruen-disko-in-der-turnhalle/
LOCATION:Schulzentrum Krempermarsch\, Am Burggraben 10\, Krempe\, Schleswig-Holstein\, 25361\, Deutschland
ORGANIZER;CN="Schulzentrum%20Krempermarsch":MAILTO: schulzentrum-krempermarsch.krempe@schule.landsh.de
END:VEVENT
END:VCALENDAR