BEGIN:VCALENDAR
VERSION:2.0
PRODID:-//Grundschule Krempe - ECPv4.9.8//NONSGML v1.0//EN
CALSCALE:GREGORIAN
METHOD:PUBLISH
X-WR-CALNAME:Grundschule Krempe
X-ORIGINAL-URL:http://schulzentrum-krempermarsch.de
X-WR-CALDESC:Veranstaltungen im Grundschule Krempe
BEGIN:VTIMEZONE
TZID:Europe/Berlin
BEGIN:DAYLIGHT
TZOFFSETFROM:+0100
TZOFFSETTO:+0200
TZNAME:CEST
DTSTART:20180325T010000
END:DAYLIGHT
BEGIN:STANDARD
TZOFFSETFROM:+0200
TZOFFSETTO:+0100
TZNAME:CET
DTSTART:20181028T010000
END:STANDARD
END:VTIMEZONE
BEGIN:VEVENT
DTSTART;TZID="Europe/Berlin":20180601T150000
DTEND;TZID="Europe/Berlin":20180601T183000
DTSTAMP:20260424T053100
CREATED:20180509T163847Z
LAST-MODIFIED:20180509T163847Z
UID:842-1527865200-1527877800@schulzentrum-krempermarsch.de
SUMMARY:Kinderbunt
DESCRIPTION:Schulfest \n
URL:http://schulzentrum-krempermarsch.de/event/kinderbunt/
LOCATION:Schulzentrum Krempermarsch\, Am Burggraben 10\, Krempe\, Schleswig-Holstein\, 25361\, Deutschland
END:VEVENT
END:VCALENDAR