BEGIN:VCALENDAR
VERSION:2.0
PRODID:-//Grundschule Krempe - ECPv4.9.8//NONSGML v1.0//EN
CALSCALE:GREGORIAN
METHOD:PUBLISH
X-WR-CALNAME:Grundschule Krempe
X-ORIGINAL-URL:http://schulzentrum-krempermarsch.de
X-WR-CALDESC:Veranstaltungen im Grundschule Krempe
BEGIN:VTIMEZONE
TZID:Europe/Berlin
BEGIN:DAYLIGHT
TZOFFSETFROM:+0100
TZOFFSETTO:+0200
TZNAME:CEST
DTSTART:20270328T010000
END:DAYLIGHT
BEGIN:STANDARD
TZOFFSETFROM:+0200
TZOFFSETTO:+0100
TZNAME:CET
DTSTART:20271031T010000
END:STANDARD
END:VTIMEZONE
BEGIN:VEVENT
DTSTART;TZID="Europe/Berlin":20270604T080000
DTEND;TZID="Europe/Berlin":20270604T180000
DTSTAMP:20260420T094104
CREATED:20260414T171332Z
LAST-MODIFIED:20260414T171332Z
UID:5753-1812096000-1812132000@schulzentrum-krempermarsch.de
SUMMARY:Kinderbunt
DESCRIPTION:Schulschluss für alle Schülerinnen und Schüler um 12.05 Uhr \n
URL:http://schulzentrum-krempermarsch.de/event/kinderbunt-7/
END:VEVENT
END:VCALENDAR