BEGIN:VCALENDAR
VERSION:2.0
PRODID:-//Grundschule Krempe - ECPv4.9.8//NONSGML v1.0//EN
CALSCALE:GREGORIAN
METHOD:PUBLISH
X-WR-CALNAME:Grundschule Krempe
X-ORIGINAL-URL:http://schulzentrum-krempermarsch.de
X-WR-CALDESC:Veranstaltungen im Grundschule Krempe
BEGIN:VTIMEZONE
TZID:Europe/Berlin
BEGIN:DAYLIGHT
TZOFFSETFROM:+0100
TZOFFSETTO:+0200
TZNAME:CEST
DTSTART:20190331T010000
END:DAYLIGHT
BEGIN:STANDARD
TZOFFSETFROM:+0200
TZOFFSETTO:+0100
TZNAME:CET
DTSTART:20191027T010000
END:STANDARD
END:VTIMEZONE
BEGIN:VEVENT
DTSTART;TZID="Europe/Berlin":20190624T173000
DTEND;TZID="Europe/Berlin":20190624T190000
DTSTAMP:20260424T005216
CREATED:20190520T165740Z
LAST-MODIFIED:20190520T165740Z
UID:1259-1561397400-1561402800@schulzentrum-krempermarsch.de
SUMMARY:Infoabend der zukünftigen Erstklässler
DESCRIPTION:Einladung zum Infoabend der zukünftigen Erstklässler \n
URL:http://schulzentrum-krempermarsch.de/event/infoabend-der-zukuenftigen-erstklaessler/
ORGANIZER;CN="Schulzentrum%20Krempermarsch":MAILTO: schulzentrum-krempermarsch.krempe@schule.landsh.de
END:VEVENT
END:VCALENDAR