BEGIN:VCALENDAR
VERSION:2.0
PRODID:-//Grundschule Krempe - ECPv4.9.8//NONSGML v1.0//EN
CALSCALE:GREGORIAN
METHOD:PUBLISH
X-WR-CALNAME:Grundschule Krempe
X-ORIGINAL-URL:http://schulzentrum-krempermarsch.de
X-WR-CALDESC:Veranstaltungen im Grundschule Krempe
BEGIN:VTIMEZONE
TZID:Europe/Berlin
BEGIN:DAYLIGHT
TZOFFSETFROM:+0100
TZOFFSETTO:+0200
TZNAME:CEST
DTSTART:20170326T010000
END:DAYLIGHT
BEGIN:STANDARD
TZOFFSETFROM:+0200
TZOFFSETTO:+0100
TZNAME:CET
DTSTART:20171029T010000
END:STANDARD
END:VTIMEZONE
BEGIN:VEVENT
DTSTART;TZID="Europe/Berlin":20170626T083000
DTEND;TZID="Europe/Berlin":20170626T100000
DTSTAMP:20260424T085635
CREATED:20170613T173712Z
LAST-MODIFIED:20170613T173712Z
UID:633-1498465800-1498471200@schulzentrum-krempermarsch.de
SUMMARY:Gilde-Montag
DESCRIPTION:Am traditionellen &#8222;Gilde-Montag&#8220; läuft das Programm unter dem Motto &#8222;The same procedure as every year&#8220; \n
URL:http://schulzentrum-krempermarsch.de/event/gilde-montag/
END:VEVENT
END:VCALENDAR