BEGIN:VCALENDAR
VERSION:2.0
PRODID:-//Grundschule Krempe - ECPv4.9.8//NONSGML v1.0//EN
CALSCALE:GREGORIAN
METHOD:PUBLISH
X-WR-CALNAME:Grundschule Krempe
X-ORIGINAL-URL:http://schulzentrum-krempermarsch.de
X-WR-CALDESC:Veranstaltungen im Grundschule Krempe
BEGIN:VTIMEZONE
TZID:Europe/Berlin
BEGIN:DAYLIGHT
TZOFFSETFROM:+0100
TZOFFSETTO:+0200
TZNAME:CEST
DTSTART:20260329T010000
END:DAYLIGHT
BEGIN:STANDARD
TZOFFSETFROM:+0200
TZOFFSETTO:+0100
TZNAME:CET
DTSTART:20261025T010000
END:STANDARD
END:VTIMEZONE
BEGIN:VEVENT
DTSTART;TZID="Europe/Berlin":20260828T080000
DTEND;TZID="Europe/Berlin":20260828T130000
DTSTAMP:20260420T080359
CREATED:20260414T170637Z
LAST-MODIFIED:20260414T170637Z
UID:5737-1787904000-1787922000@schulzentrum-krempermarsch.de
SUMMARY:Fotograf in der Schule
DESCRIPTION:
URL:http://schulzentrum-krempermarsch.de/event/fotograf-in-der-schule-6/
END:VEVENT
END:VCALENDAR