BEGIN:VCALENDAR
VERSION:2.0
PRODID:-//Grundschule Krempe - ECPv4.9.8//NONSGML v1.0//EN
CALSCALE:GREGORIAN
METHOD:PUBLISH
X-WR-CALNAME:Grundschule Krempe
X-ORIGINAL-URL:http://schulzentrum-krempermarsch.de
X-WR-CALDESC:Veranstaltungen im Grundschule Krempe
BEGIN:VTIMEZONE
TZID:Europe/Berlin
BEGIN:DAYLIGHT
TZOFFSETFROM:+0100
TZOFFSETTO:+0200
TZNAME:CEST
DTSTART:20260329T010000
END:DAYLIGHT
BEGIN:STANDARD
TZOFFSETFROM:+0200
TZOFFSETTO:+0100
TZNAME:CET
DTSTART:20261025T010000
END:STANDARD
END:VTIMEZONE
BEGIN:VEVENT
DTSTART;TZID="Europe/Berlin":20260529T080000
DTEND;TZID="Europe/Berlin":20260529T130000
DTSTAMP:20260420T062731
CREATED:20260414T171643Z
LAST-MODIFIED:20260414T171643Z
UID:5755-1780041600-1780059600@schulzentrum-krempermarsch.de
SUMMARY:Fahrradprüfung der Klassen 4a und 4b
DESCRIPTION:
URL:http://schulzentrum-krempermarsch.de/event/fahrradpruefung-der-klassen-4a-und-4b/
END:VEVENT
END:VCALENDAR