BEGIN:VCALENDAR
VERSION:2.0
PRODID:-//Grundschule Krempe - ECPv4.9.8//NONSGML v1.0//EN
CALSCALE:GREGORIAN
METHOD:PUBLISH
X-WR-CALNAME:Grundschule Krempe
X-ORIGINAL-URL:http://schulzentrum-krempermarsch.de
X-WR-CALDESC:Veranstaltungen im Grundschule Krempe
BEGIN:VTIMEZONE
TZID:Europe/Berlin
BEGIN:DAYLIGHT
TZOFFSETFROM:+0100
TZOFFSETTO:+0200
TZNAME:CEST
DTSTART:20190331T010000
END:DAYLIGHT
BEGIN:STANDARD
TZOFFSETFROM:+0200
TZOFFSETTO:+0100
TZNAME:CET
DTSTART:20191027T010000
END:STANDARD
END:VTIMEZONE
BEGIN:VEVENT
DTSTART;TZID="Europe/Berlin":20191119T153000
DTEND;TZID="Europe/Berlin":20191119T170000
DTSTAMP:20260423T225810
CREATED:20190825T160915Z
LAST-MODIFIED:20190825T160915Z
UID:1481-1574177400-1574182800@schulzentrum-krempermarsch.de
SUMMARY:Fachkonferenzen
DESCRIPTION:Teilnehmer: gewählte Elternvertreter aller Klassenstufen und alle Lehrkräfte \nReihenfolge der Fächer und Vertreter nach Absprache \n
URL:http://schulzentrum-krempermarsch.de/event/fachkonferenzen-4/
LOCATION:Schulzentrum Krempermarsch\, Am Burggraben 10\, Krempe\, Schleswig-Holstein\, 25361\, Deutschland
END:VEVENT
END:VCALENDAR