BEGIN:VCALENDAR
VERSION:2.0
PRODID:-//Grundschule Krempe - ECPv4.9.8//NONSGML v1.0//EN
CALSCALE:GREGORIAN
METHOD:PUBLISH
X-WR-CALNAME:Grundschule Krempe
X-ORIGINAL-URL:http://schulzentrum-krempermarsch.de
X-WR-CALDESC:Veranstaltungen im Grundschule Krempe
BEGIN:VTIMEZONE
TZID:Europe/Berlin
BEGIN:DAYLIGHT
TZOFFSETFROM:+0100
TZOFFSETTO:+0200
TZNAME:CEST
DTSTART:20170326T010000
END:DAYLIGHT
BEGIN:STANDARD
TZOFFSETFROM:+0200
TZOFFSETTO:+0100
TZNAME:CET
DTSTART:20171029T010000
END:STANDARD
END:VTIMEZONE
BEGIN:VEVENT
DTSTART;TZID="Europe/Berlin":20170904T080000
DTEND;TZID="Europe/Berlin":20170904T131500
DTSTAMP:20260424T072827
CREATED:20170613T175530Z
LAST-MODIFIED:20170613T175530Z
UID:644-1504512000-1504530900@schulzentrum-krempermarsch.de
SUMMARY:Erster Schultag nach den Sommerferien
DESCRIPTION:
URL:http://schulzentrum-krempermarsch.de/event/erster-schultag-nach-den-sommerferien/
END:VEVENT
END:VCALENDAR