BEGIN:VCALENDAR
VERSION:2.0
PRODID:-//Grundschule Krempe - ECPv4.9.8//NONSGML v1.0//EN
CALSCALE:GREGORIAN
METHOD:PUBLISH
X-WR-CALNAME:Grundschule Krempe
X-ORIGINAL-URL:http://schulzentrum-krempermarsch.de
X-WR-CALDESC:Veranstaltungen im Grundschule Krempe
BEGIN:VTIMEZONE
TZID:Europe/Berlin
BEGIN:DAYLIGHT
TZOFFSETFROM:+0100
TZOFFSETTO:+0200
TZNAME:CEST
DTSTART:20200329T010000
END:DAYLIGHT
BEGIN:STANDARD
TZOFFSETFROM:+0200
TZOFFSETTO:+0100
TZNAME:CET
DTSTART:20201025T010000
END:STANDARD
END:VTIMEZONE
BEGIN:VEVENT
DTSTART;TZID="Europe/Berlin":20200420T080000
DTEND;TZID="Europe/Berlin":20200420T130000
DTSTAMP:20260423T195008
CREATED:20190825T162421Z
LAST-MODIFIED:20200417T110322Z
UID:1505-1587369600-1587387600@schulzentrum-krempermarsch.de
SUMMARY:erster Schultag nach den Osterferien (siehe die aktuellen Informationen auf der Startseite)
DESCRIPTION:
URL:http://schulzentrum-krempermarsch.de/event/erster-schultag-nach-den-osterferien-2/
END:VEVENT
END:VCALENDAR