BEGIN:VCALENDAR
VERSION:2.0
PRODID:-//Grundschule Krempe - ECPv4.9.8//NONSGML v1.0//EN
CALSCALE:GREGORIAN
METHOD:PUBLISH
X-WR-CALNAME:Grundschule Krempe
X-ORIGINAL-URL:http://schulzentrum-krempermarsch.de
X-WR-CALDESC:Veranstaltungen im Grundschule Krempe
BEGIN:VTIMEZONE
TZID:Europe/Berlin
BEGIN:DAYLIGHT
TZOFFSETFROM:+0100
TZOFFSETTO:+0200
TZNAME:CEST
DTSTART:20190331T010000
END:DAYLIGHT
BEGIN:STANDARD
TZOFFSETFROM:+0200
TZOFFSETTO:+0100
TZNAME:CET
DTSTART:20191027T010000
END:STANDARD
END:VTIMEZONE
BEGIN:VEVENT
DTSTART;TZID="Europe/Berlin":20190828T193000
DTEND;TZID="Europe/Berlin":20190828T210000
DTSTAMP:20260423T231348
CREATED:20190608T075032Z
LAST-MODIFIED:20190608T075032Z
UID:1271-1567020600-1567026000@schulzentrum-krempermarsch.de
SUMMARY:Elternversammlung für Klassenstufen 1. und 3.
DESCRIPTION:
URL:http://schulzentrum-krempermarsch.de/event/elternversammlung-fuer-klassenstufen-1-und-3/
END:VEVENT
END:VCALENDAR