BEGIN:VCALENDAR
VERSION:2.0
PRODID:-//Grundschule Krempe - ECPv4.9.8//NONSGML v1.0//EN
CALSCALE:GREGORIAN
METHOD:PUBLISH
X-WR-CALNAME:Grundschule Krempe
X-ORIGINAL-URL:http://schulzentrum-krempermarsch.de
X-WR-CALDESC:Veranstaltungen im Grundschule Krempe
BEGIN:VTIMEZONE
TZID:Europe/Berlin
BEGIN:DAYLIGHT
TZOFFSETFROM:+0100
TZOFFSETTO:+0200
TZNAME:CEST
DTSTART:20180325T010000
END:DAYLIGHT
BEGIN:STANDARD
TZOFFSETFROM:+0200
TZOFFSETTO:+0100
TZNAME:CET
DTSTART:20181028T010000
END:STANDARD
END:VTIMEZONE
BEGIN:VEVENT
DTSTART;TZID="Europe/Berlin":20180903T190000
DTEND;TZID="Europe/Berlin":20180903T210000
DTSTAMP:20260424T041240
CREATED:20180820T172654Z
LAST-MODIFIED:20180820T172654Z
UID:889-1536001200-1536008400@schulzentrum-krempermarsch.de
SUMMARY:Elternversammlung für ALLE Klassenstufen
DESCRIPTION:
URL:http://schulzentrum-krempermarsch.de/event/elternversammlung-fuer-alle-klassenstufen/
LOCATION:Schulzentrum Krempermarsch\, Am Burggraben 10\, Krempe\, Schleswig-Holstein\, 25361\, Deutschland
END:VEVENT
END:VCALENDAR