BEGIN:VCALENDAR
VERSION:2.0
PRODID:-//Grundschule Krempe - ECPv4.9.8//NONSGML v1.0//EN
CALSCALE:GREGORIAN
METHOD:PUBLISH
X-WR-CALNAME:Grundschule Krempe
X-ORIGINAL-URL:http://schulzentrum-krempermarsch.de
X-WR-CALDESC:Veranstaltungen im Grundschule Krempe
BEGIN:VTIMEZONE
TZID:Europe/Berlin
BEGIN:DAYLIGHT
TZOFFSETFROM:+0100
TZOFFSETTO:+0200
TZNAME:CEST
DTSTART:20190331T010000
END:DAYLIGHT
BEGIN:STANDARD
TZOFFSETFROM:+0200
TZOFFSETTO:+0100
TZNAME:CET
DTSTART:20191027T010000
END:STANDARD
END:VTIMEZONE
BEGIN:VEVENT
DTSTART;TZID="Europe/Berlin":20190930T140000
DTEND;TZID="Europe/Berlin":20191001T170000
DTSTAMP:20260423T230815
CREATED:20190825T144247Z
LAST-MODIFIED:20190825T144247Z
UID:1477-1569852000-1569949200@schulzentrum-krempermarsch.de
SUMMARY:Elternsprechtage Klassen 1a und 1b
DESCRIPTION:Termine werden durch die Klassenlehrerinnen vergeben bzw. mit ihnen abgesprochen \n
URL:http://schulzentrum-krempermarsch.de/event/elternsprechtage-klassen-1a-und-1b/
ORGANIZER;CN="Schulzentrum%20Krempermarsch":MAILTO: schulzentrum-krempermarsch.krempe@schule.landsh.de
END:VEVENT
END:VCALENDAR