BEGIN:VCALENDAR
VERSION:2.0
PRODID:-//Grundschule Krempe - ECPv4.9.8//NONSGML v1.0//EN
CALSCALE:GREGORIAN
METHOD:PUBLISH
X-WR-CALNAME:Grundschule Krempe
X-ORIGINAL-URL:http://schulzentrum-krempermarsch.de
X-WR-CALDESC:Veranstaltungen im Grundschule Krempe
BEGIN:VTIMEZONE
TZID:Europe/Berlin
BEGIN:DAYLIGHT
TZOFFSETFROM:+0100
TZOFFSETTO:+0200
TZNAME:CEST
DTSTART:20210328T010000
END:DAYLIGHT
BEGIN:STANDARD
TZOFFSETFROM:+0200
TZOFFSETTO:+0100
TZNAME:CET
DTSTART:20211031T010000
END:STANDARD
END:VTIMEZONE
BEGIN:VEVENT
DTSTART;TZID="Europe/Berlin":20210202T140000
DTEND;TZID="Europe/Berlin":20210202T174000
DTSTAMP:20260422T131436
CREATED:20200922T155418Z
LAST-MODIFIED:20210118T123915Z
UID:2349-1612274400-1612287600@schulzentrum-krempermarsch.de
SUMMARY:Elternsprechtag 2: Klasse 1a
DESCRIPTION:
URL:http://schulzentrum-krempermarsch.de/event/elternsprechtag-klasse-1a-und-klasse-1b-2/
END:VEVENT
END:VCALENDAR