BEGIN:VCALENDAR
VERSION:2.0
PRODID:-//Grundschule Krempe - ECPv4.9.8//NONSGML v1.0//EN
CALSCALE:GREGORIAN
METHOD:PUBLISH
X-WR-CALNAME:Grundschule Krempe
X-ORIGINAL-URL:http://schulzentrum-krempermarsch.de
X-WR-CALDESC:Veranstaltungen im Grundschule Krempe
BEGIN:VTIMEZONE
TZID:Europe/Berlin
BEGIN:DAYLIGHT
TZOFFSETFROM:+0100
TZOFFSETTO:+0200
TZNAME:CEST
DTSTART:20200329T010000
END:DAYLIGHT
BEGIN:STANDARD
TZOFFSETFROM:+0200
TZOFFSETTO:+0100
TZNAME:CET
DTSTART:20201025T010000
END:STANDARD
END:VTIMEZONE
BEGIN:VEVENT
DTSTART;TZID="Europe/Berlin":20200212T133000
DTEND;TZID="Europe/Berlin":20200212T170000
DTSTAMP:20260423T211755
CREATED:20190825T161642Z
LAST-MODIFIED:20190825T161642Z
UID:1491-1581514200-1581526800@schulzentrum-krempermarsch.de
SUMMARY:Elternsprechtag der Klassen 3a und 3b
DESCRIPTION:Termine werden durch die Klassenlehrerinnen vergeben bzw. mit ihnen abgesprochen \n
URL:http://schulzentrum-krempermarsch.de/event/elternsprechtag-der-klassen-3a-und-3b/
END:VEVENT
END:VCALENDAR