BEGIN:VCALENDAR
VERSION:2.0
PRODID:-//Grundschule Krempe - ECPv4.9.8//NONSGML v1.0//EN
CALSCALE:GREGORIAN
METHOD:PUBLISH
X-WR-CALNAME:Grundschule Krempe
X-ORIGINAL-URL:http://schulzentrum-krempermarsch.de
X-WR-CALDESC:Veranstaltungen im Grundschule Krempe
BEGIN:VTIMEZONE
TZID:Europe/Berlin
BEGIN:DAYLIGHT
TZOFFSETFROM:+0100
TZOFFSETTO:+0200
TZNAME:CEST
DTSTART:20210328T010000
END:DAYLIGHT
BEGIN:STANDARD
TZOFFSETFROM:+0200
TZOFFSETTO:+0100
TZNAME:CET
DTSTART:20211031T010000
END:STANDARD
END:VTIMEZONE
BEGIN:VEVENT
DTSTART;TZID="Europe/Berlin":20210211T160000
DTEND;TZID="Europe/Berlin":20210211T180000
DTSTAMP:20260422T023705
CREATED:20210118T124450Z
LAST-MODIFIED:20210118T124450Z
UID:2515-1613059200-1613066400@schulzentrum-krempermarsch.de
SUMMARY:Elternsprechtag 2: Klassen 2a und 2b
DESCRIPTION:
URL:http://schulzentrum-krempermarsch.de/event/elternsprechtag-2-klassen-2a-und-2b/
END:VEVENT
END:VCALENDAR