BEGIN:VCALENDAR
VERSION:2.0
PRODID:-//Grundschule Krempe - ECPv4.9.8//NONSGML v1.0//EN
CALSCALE:GREGORIAN
METHOD:PUBLISH
X-WR-CALNAME:Grundschule Krempe
X-ORIGINAL-URL:http://schulzentrum-krempermarsch.de
X-WR-CALDESC:Veranstaltungen im Grundschule Krempe
BEGIN:VTIMEZONE
TZID:Europe/Berlin
BEGIN:DAYLIGHT
TZOFFSETFROM:+0100
TZOFFSETTO:+0200
TZNAME:CEST
DTSTART:20210328T010000
END:DAYLIGHT
BEGIN:STANDARD
TZOFFSETFROM:+0200
TZOFFSETTO:+0100
TZNAME:CET
DTSTART:20211031T010000
END:STANDARD
END:VTIMEZONE
BEGIN:VEVENT
DTSTART;TZID="Europe/Berlin":20210203T140000
DTEND;TZID="Europe/Berlin":20210203T174000
DTSTAMP:20260422T113051
CREATED:20210118T124158Z
LAST-MODIFIED:20210118T124158Z
UID:2510-1612360800-1612374000@schulzentrum-krempermarsch.de
SUMMARY:Elternsprechtag 1: Klasse 1b
DESCRIPTION:
URL:http://schulzentrum-krempermarsch.de/event/elternsprechtag-1-klasse-1b/
END:VEVENT
END:VCALENDAR