BEGIN:VCALENDAR
VERSION:2.0
PRODID:-//Grundschule Krempe - ECPv4.9.8//NONSGML v1.0//EN
CALSCALE:GREGORIAN
METHOD:PUBLISH
X-WR-CALNAME:Grundschule Krempe
X-ORIGINAL-URL:http://schulzentrum-krempermarsch.de
X-WR-CALDESC:Veranstaltungen im Grundschule Krempe
BEGIN:VTIMEZONE
TZID:Europe/Berlin
BEGIN:DAYLIGHT
TZOFFSETFROM:+0100
TZOFFSETTO:+0200
TZNAME:CEST
DTSTART:20200329T010000
END:DAYLIGHT
BEGIN:STANDARD
TZOFFSETFROM:+0200
TZOFFSETTO:+0100
TZNAME:CET
DTSTART:20201025T010000
END:STANDARD
END:VTIMEZONE
BEGIN:VEVENT
DTSTART;TZID="Europe/Berlin":20200616T190000
DTEND;TZID="Europe/Berlin":20200616T200000
DTSTAMP:20260423T161855
CREATED:20190825T163359Z
LAST-MODIFIED:20200606T122659Z
UID:1523-1592334000-1592337600@schulzentrum-krempermarsch.de
SUMMARY:Elternabend der zukünftigen Erstklässler
DESCRIPTION:
URL:http://schulzentrum-krempermarsch.de/event/elternabend-der-zukuenftigen-erstklaessler/
LOCATION:Schulzentrum Krempermarsch\, Am Burggraben 10\, Krempe\, Schleswig-Holstein\, 25361\, Deutschland
END:VEVENT
END:VCALENDAR