BEGIN:VCALENDAR
VERSION:2.0
PRODID:-//Grundschule Krempe - ECPv4.9.8//NONSGML v1.0//EN
CALSCALE:GREGORIAN
METHOD:PUBLISH
X-WR-CALNAME:Grundschule Krempe
X-ORIGINAL-URL:http://schulzentrum-krempermarsch.de
X-WR-CALDESC:Veranstaltungen im Grundschule Krempe
BEGIN:VTIMEZONE
TZID:Europe/Berlin
BEGIN:DAYLIGHT
TZOFFSETFROM:+0100
TZOFFSETTO:+0200
TZNAME:CEST
DTSTART:20260329T010000
END:DAYLIGHT
BEGIN:STANDARD
TZOFFSETFROM:+0200
TZOFFSETTO:+0100
TZNAME:CET
DTSTART:20261025T010000
END:STANDARD
END:VTIMEZONE
BEGIN:VEVENT
DTSTART;TZID="Europe/Berlin":20260623T170000
DTEND;TZID="Europe/Berlin":20260623T180000
DTSTAMP:20260423T023029
CREATED:20251103T160251Z
LAST-MODIFIED:20251103T160251Z
UID:5682-1782234000-1782237600@schulzentrum-krempermarsch.de
SUMMARY:Eltern-Infoabend für die zukünftigen Erstklässler/innen
DESCRIPTION:
URL:http://schulzentrum-krempermarsch.de/event/eltern-infoabend-fuer-die-zukuenftigen-erstklaessler-innen-3/
END:VEVENT
END:VCALENDAR