BEGIN:VCALENDAR
VERSION:2.0
PRODID:-//Grundschule Krempe - ECPv4.9.8//NONSGML v1.0//EN
CALSCALE:GREGORIAN
METHOD:PUBLISH
X-WR-CALNAME:Grundschule Krempe
X-ORIGINAL-URL:http://schulzentrum-krempermarsch.de
X-WR-CALDESC:Veranstaltungen im Grundschule Krempe
BEGIN:VTIMEZONE
TZID:Europe/Berlin
BEGIN:DAYLIGHT
TZOFFSETFROM:+0100
TZOFFSETTO:+0200
TZNAME:CEST
DTSTART:20170326T010000
END:DAYLIGHT
BEGIN:STANDARD
TZOFFSETFROM:+0200
TZOFFSETTO:+0100
TZNAME:CET
DTSTART:20171029T010000
END:STANDARD
END:VTIMEZONE
BEGIN:VEVENT
DTSTART;TZID="Europe/Berlin":20170707T080000
DTEND;TZID="Europe/Berlin":20170707T130000
DTSTAMP:20260424T090508
CREATED:20170613T174539Z
LAST-MODIFIED:20170613T174539Z
UID:638-1499414400-1499432400@schulzentrum-krempermarsch.de
SUMMARY:"Der Froschkönig" / "The Frog King"
DESCRIPTION:Eine Theatertruppe ist bei uns zu Gast. Für die &#8222;Kleinen&#8220; gibt es &#8222;Den Froschkönig&#8220;\, für die &#8222;Großen&#8220; gibt es &#8211; alles auf Englisch &#8211; &#8222;The Frog King&#8220;. \nAuch einige Schülerinnen und Schüler der  GS Rethwisch stoßen hinzu\, wir freuen uns drauf! \n
URL:http://schulzentrum-krempermarsch.de/event/der-froschkoenig-the-frog-king/
END:VEVENT
END:VCALENDAR