BEGIN:VCALENDAR
VERSION:2.0
PRODID:-//Grundschule Krempe - ECPv4.9.8//NONSGML v1.0//EN
CALSCALE:GREGORIAN
METHOD:PUBLISH
X-WR-CALNAME:Grundschule Krempe
X-ORIGINAL-URL:http://schulzentrum-krempermarsch.de
X-WR-CALDESC:Veranstaltungen im Grundschule Krempe
BEGIN:VTIMEZONE
TZID:Europe/Berlin
BEGIN:DAYLIGHT
TZOFFSETFROM:+0100
TZOFFSETTO:+0200
TZNAME:CEST
DTSTART:20180325T010000
END:DAYLIGHT
BEGIN:STANDARD
TZOFFSETFROM:+0200
TZOFFSETTO:+0100
TZNAME:CET
DTSTART:20181028T010000
END:STANDARD
END:VTIMEZONE
BEGIN:VEVENT
DTSTART;TZID="Europe/Berlin":20180507T080000
DTEND;TZID="Europe/Berlin":20180509T170000
DTSTAMP:20260424T053748
CREATED:20170613T180136Z
LAST-MODIFIED:20170613T180136Z
UID:652-1525680000-1525885200@schulzentrum-krempermarsch.de
SUMMARY:Bewegliche Ferientage
DESCRIPTION:
URL:http://schulzentrum-krempermarsch.de/event/bewegliche-ferientage/
END:VEVENT
END:VCALENDAR