BEGIN:VCALENDAR
VERSION:2.0
PRODID:-//Grundschule Krempe - ECPv4.9.8//NONSGML v1.0//EN
CALSCALE:GREGORIAN
METHOD:PUBLISH
X-WR-CALNAME:Grundschule Krempe
X-ORIGINAL-URL:http://schulzentrum-krempermarsch.de
X-WR-CALDESC:Veranstaltungen im Grundschule Krempe
BEGIN:VTIMEZONE
TZID:Europe/Berlin
BEGIN:DAYLIGHT
TZOFFSETFROM:+0100
TZOFFSETTO:+0200
TZNAME:CEST
DTSTART:20160327T010000
END:DAYLIGHT
BEGIN:STANDARD
TZOFFSETFROM:+0200
TZOFFSETTO:+0100
TZNAME:CET
DTSTART:20161030T010000
END:STANDARD
END:VTIMEZONE
BEGIN:VEVENT
DTSTART;VALUE=DATE:20161125
DTEND;VALUE=DATE:20161126
DTSTAMP:20260424T101855
CREATED:20161006T114226Z
LAST-MODIFIED:20161007T081740Z
UID:416-1480032000-1480118399@schulzentrum-krempermarsch.de
SUMMARY:Basteltag
DESCRIPTION:Die Schülerinnen und Schüler kommen an diesem Tag mit Schere\, Klebestift\, Federtasche\, Frühstück und jeder Menge &#8222;Bastelleidenschaft&#8220; zur Schule. Viel Spaß!!! \n
URL:http://schulzentrum-krempermarsch.de/event/basteltag/
LOCATION:Schulzentrum Krempermarsch\, Am Burggraben 10\, Krempe\, Schleswig-Holstein\, 25361\, Deutschland
ATTACH;FMTTYPE=image/jpeg:http://schulzentrum-krempermarsch.de/wp-content/uploads/2016/10/basteltag.jpg
ORGANIZER;CN="Schulzentrum%20Krempermarsch":MAILTO: schulzentrum-krempermarsch.krempe@schule.landsh.de
END:VEVENT
END:VCALENDAR