BEGIN:VCALENDAR
VERSION:2.0
PRODID:-//Grundschule Krempe - ECPv4.9.8//NONSGML v1.0//EN
CALSCALE:GREGORIAN
METHOD:PUBLISH
X-WR-CALNAME:Grundschule Krempe
X-ORIGINAL-URL:http://schulzentrum-krempermarsch.de
X-WR-CALDESC:Veranstaltungen im Grundschule Krempe
BEGIN:VTIMEZONE
TZID:Europe/Berlin
BEGIN:DAYLIGHT
TZOFFSETFROM:+0100
TZOFFSETTO:+0200
TZNAME:CEST
DTSTART:20260329T010000
END:DAYLIGHT
BEGIN:STANDARD
TZOFFSETFROM:+0200
TZOFFSETTO:+0100
TZNAME:CET
DTSTART:20261025T010000
END:STANDARD
END:VTIMEZONE
BEGIN:VEVENT
DTSTART;TZID="Europe/Berlin":20261116T080000
DTEND;TZID="Europe/Berlin":20261116T130000
DTSTAMP:20260420T075956
CREATED:20260414T171021Z
LAST-MODIFIED:20260414T171021Z
UID:5743-1794816000-1794834000@schulzentrum-krempermarsch.de
SUMMARY:Basteltag
DESCRIPTION:Schulschluss laut Stundenplan \n
URL:http://schulzentrum-krempermarsch.de/event/basteltag-9/
END:VEVENT
END:VCALENDAR