BEGIN:VCALENDAR
VERSION:2.0
PRODID:-//Grundschule Krempe - ECPv4.9.8//NONSGML v1.0//EN
CALSCALE:GREGORIAN
METHOD:PUBLISH
X-WR-CALNAME:Grundschule Krempe
X-ORIGINAL-URL:http://schulzentrum-krempermarsch.de
X-WR-CALDESC:Veranstaltungen im Grundschule Krempe
BEGIN:VTIMEZONE
TZID:Europe/Berlin
BEGIN:DAYLIGHT
TZOFFSETFROM:+0100
TZOFFSETTO:+0200
TZNAME:CEST
DTSTART:20160327T010000
END:DAYLIGHT
BEGIN:STANDARD
TZOFFSETFROM:+0200
TZOFFSETTO:+0100
TZNAME:CET
DTSTART:20161030T010000
END:STANDARD
END:VTIMEZONE
BEGIN:VEVENT
DTSTART;TZID="Europe/Berlin":20161012T143000
DTEND;TZID="Europe/Berlin":20161012T170000
DTSTAMP:20260424T122622
CREATED:20161004T135804Z
LAST-MODIFIED:20161007T082618Z
UID:395-1476282600-1476291600@schulzentrum-krempermarsch.de
SUMMARY:Apfelfest der Klasse 3
DESCRIPTION:
URL:http://schulzentrum-krempermarsch.de/event/apfelfest-der-klasse-3/
LOCATION:Schulzentrum Krempermarsch\, Am Burggraben 10\, Krempe\, Schleswig-Holstein\, 25361\, Deutschland
ATTACH;FMTTYPE=image/jpeg:http://schulzentrum-krempermarsch.de/wp-content/uploads/2016/10/apfelfest.jpg
ORGANIZER;CN="Schulzentrum%20Krempermarsch":MAILTO: schulzentrum-krempermarsch.krempe@schule.landsh.de
END:VEVENT
END:VCALENDAR